BEGIN:VCALENDAR
VERSION:2.0
PRODID:-//FSV 1950 Gotha e.V. - ECPv6.15.20//NONSGML v1.0//EN
CALSCALE:GREGORIAN
METHOD:PUBLISH
X-WR-CALNAME:FSV 1950 Gotha e.V.
X-ORIGINAL-URL:https://fsv-1950-gotha.de
X-WR-CALDESC:Veranstaltungen für FSV 1950 Gotha e.V.
REFRESH-INTERVAL;VALUE=DURATION:PT1H
X-Robots-Tag:noindex
X-PUBLISHED-TTL:PT1H
BEGIN:VTIMEZONE
TZID:UTC
BEGIN:STANDARD
TZOFFSETFROM:+0000
TZOFFSETTO:+0000
TZNAME:UTC
DTSTART:20230101T000000
END:STANDARD
END:VTIMEZONE
BEGIN:VEVENT
DTSTART;TZID=UTC:20241020T100000
DTEND;TZID=UTC:20241020T140000
DTSTAMP:20260423T043740
CREATED:20240928T085839Z
LAST-MODIFIED:20240928T090017Z
UID:3600-1729418400-1729432800@fsv-1950-gotha.de
SUMMARY:Erlebniswandertag & Nordic Walking
DESCRIPTION:
URL:https://fsv-1950-gotha.de/event/erlebniswandertag-nordic-walking
LOCATION:Boxberg bei Gotha
END:VEVENT
END:VCALENDAR