BEGIN:VCALENDAR
VERSION:2.0
PRODID:-//FSV 1950 Gotha e.V. - ECPv6.15.20//NONSGML v1.0//EN
CALSCALE:GREGORIAN
METHOD:PUBLISH
X-ORIGINAL-URL:https://fsv-1950-gotha.de
X-WR-CALDESC:Veranstaltungen für FSV 1950 Gotha e.V.
REFRESH-INTERVAL;VALUE=DURATION:PT1H
X-Robots-Tag:noindex
X-PUBLISHED-TTL:PT1H
BEGIN:VTIMEZONE
TZID:UTC
BEGIN:STANDARD
TZOFFSETFROM:+0000
TZOFFSETTO:+0000
TZNAME:UTC
DTSTART:20240101T000000
END:STANDARD
END:VTIMEZONE
BEGIN:VEVENT
DTSTART;TZID=UTC:20250817T100000
DTEND;TZID=UTC:20250817T170000
DTSTAMP:20260419T153118
CREATED:20250630T083930Z
LAST-MODIFIED:20250811T095810Z
UID:4117-1755424800-1755450000@fsv-1950-gotha.de
SUMMARY:Tageswanderung "Leinaquelle + anschl. Sommerfest an der Öberlien"
DESCRIPTION:Es ist wieder soweit. Sonntag startet die nächste Wanderung- siehe Ausschreibung. Wir werden ca. 14:30 Uhr an der Öberlien ankommen und dort einen schönen Nachmittag verbringen. Wir besorgen wieder alles\, die Zutaten für das Essen und die Getränke\, bei der Vorbereitung des Essens helfen alle mit. Bezahlt wird auch wie immer an das Sparschwein. Bitte meldet Euch dieses Mal schon bis Donnerstag damit wir die Anzahl der Personen haben. \nGern können Familienmitglieder\, die nicht mit wandern am Nachmittag zu uns stoßen. Adresse für die Anreise- Leinagrund 10\, Finsterbergen. Bitte beachten\, der Weg ist teilweise geschottert. Dort parken\, die Brücke über die Leina überqueren\, 50 m dem Plattenweg nach rechts folgen\, dann rechts die Einfahrt rein. \nBitte gebt bei der Anmeldung mit an\, wie viele Personen später zu uns stoßen. Wer Kinder mitbringt\, bitte an Wechselsachen denken\, die Leina lockt mit kühlem Wasser. \nWir freuen uns auf Euch \nRonald und Beate \n 
URL:https://fsv-1950-gotha.de/event/tageswanderung-leinaquelle-anschl-sommerfest-an-der-oeberlien
LOCATION:Finsterbergen
END:VEVENT
BEGIN:VEVENT
DTSTART;VALUE=DATE:20250822
DTEND;VALUE=DATE:20250825
DTSTAMP:20260419T153118
CREATED:20250630T091134Z
LAST-MODIFIED:20250630T091134Z
UID:4134-1755820800-1756079999@fsv-1950-gotha.de
SUMMARY:Fitness - Sommercamp
DESCRIPTION:
URL:https://fsv-1950-gotha.de/event/fitness-sommercamp-2
LOCATION:Sportplatz Remstädt
END:VEVENT
END:VCALENDAR