BEGIN:VCALENDAR
VERSION:2.0
PRODID:-//FSV 1950 Gotha e.V. - ECPv6.15.20//NONSGML v1.0//EN
CALSCALE:GREGORIAN
METHOD:PUBLISH
X-ORIGINAL-URL:https://fsv-1950-gotha.de
X-WR-CALDESC:Veranstaltungen für FSV 1950 Gotha e.V.
REFRESH-INTERVAL;VALUE=DURATION:PT1H
X-Robots-Tag:noindex
X-PUBLISHED-TTL:PT1H
BEGIN:VTIMEZONE
TZID:UTC
BEGIN:STANDARD
TZOFFSETFROM:+0000
TZOFFSETTO:+0000
TZNAME:UTC
DTSTART:20240101T000000
END:STANDARD
END:VTIMEZONE
BEGIN:VEVENT
DTSTART;TZID=UTC:20250720T100000
DTEND;TZID=UTC:20250720T160000
DTSTAMP:20260419T170446
CREATED:20250610T054327Z
LAST-MODIFIED:20250630T084123Z
UID:4109-1753005600-1753027200@fsv-1950-gotha.de
SUMMARY:Tageswanderung „Runde bei Mosbach"
DESCRIPTION:Geführte Rundwanderstrecke mit Ronald und Beate über ca. 14 km\, teils schöner Laubwald\, Mosbacher Linde\, Schwanenteich Eisenach\, Landgrafenschlucht\, großer Drachenstein\, einige steile An-und Abstiege\, zum Abschluss Besuch des Schwimmbades oder Einkehr in der Gaststätte möglich. \nTreff: Parkplatz am Schwimmbad in Mosbach (bei Wutha- Farnroda) \nMitbringen: Wanderschuhe\, Rucksackessen\, bei Bedarf Stöcke \nAnmeldung bitte bis 19.07.2025: wernus66@web.de oder SMS 0172 3644165
URL:https://fsv-1950-gotha.de/event/tageswanderung-mit-ronald-und-beate
LOCATION:Mosbach
END:VEVENT
END:VCALENDAR