BEGIN:VCALENDAR
VERSION:2.0
PRODID:-//FSV 1950 Gotha e.V. - ECPv6.15.20//NONSGML v1.0//EN
CALSCALE:GREGORIAN
METHOD:PUBLISH
X-ORIGINAL-URL:https://fsv-1950-gotha.de
X-WR-CALDESC:Veranstaltungen für FSV 1950 Gotha e.V.
REFRESH-INTERVAL;VALUE=DURATION:PT1H
X-Robots-Tag:noindex
X-PUBLISHED-TTL:PT1H
BEGIN:VTIMEZONE
TZID:UTC
BEGIN:STANDARD
TZOFFSETFROM:+0000
TZOFFSETTO:+0000
TZNAME:UTC
DTSTART:20240101T000000
END:STANDARD
END:VTIMEZONE
BEGIN:VEVENT
DTSTART;TZID=UTC:20250511T090000
DTEND;TZID=UTC:20250511T160000
DTSTAMP:20260419T200630
CREATED:20250118T190615Z
LAST-MODIFIED:20250410T102355Z
UID:3752-1746954000-1746979200@fsv-1950-gotha.de
SUMMARY:30. Schlossparklauf Gotha
DESCRIPTION:  \n \nAusschreibung
URL:https://fsv-1950-gotha.de/event/30-schlossparklauf-gotha
LOCATION:Gotha
END:VEVENT
BEGIN:VEVENT
DTSTART;TZID=UTC:20250518T100000
DTEND;TZID=UTC:20250518T140000
DTSTAMP:20260419T200630
CREATED:20250410T102718Z
LAST-MODIFIED:20250410T102718Z
UID:3875-1747562400-1747576800@fsv-1950-gotha.de
SUMMARY:Familiensporttag zum 75.
DESCRIPTION:
URL:https://fsv-1950-gotha.de/event/familiensporttag-zum-75
LOCATION:Volksparkstadion Gotha
END:VEVENT
END:VCALENDAR