BEGIN:VCALENDAR
VERSION:2.0
PRODID:-//FSV 1950 Gotha e.V. - ECPv6.15.20//NONSGML v1.0//EN
CALSCALE:GREGORIAN
METHOD:PUBLISH
X-WR-CALNAME:FSV 1950 Gotha e.V.
X-ORIGINAL-URL:https://fsv-1950-gotha.de
X-WR-CALDESC:Veranstaltungen für FSV 1950 Gotha e.V.
REFRESH-INTERVAL;VALUE=DURATION:PT1H
X-Robots-Tag:noindex
X-PUBLISHED-TTL:PT1H
BEGIN:VTIMEZONE
TZID:UTC
BEGIN:STANDARD
TZOFFSETFROM:+0000
TZOFFSETTO:+0000
TZNAME:UTC
DTSTART:20240101T000000
END:STANDARD
END:VTIMEZONE
BEGIN:VEVENT
DTSTART;VALUE=DATE:20250418
DTEND;VALUE=DATE:20250419
DTSTAMP:20260421T100440
CREATED:20250118T191534Z
LAST-MODIFIED:20250118T191853Z
UID:3761-1744934400-1745020799@fsv-1950-gotha.de
SUMMARY:Osterturnier Bogensport
DESCRIPTION:Interner Wettkampf für Vereinsmitglieder! \n \nOffene Turniere folgen: Auschreibungen hier
URL:https://fsv-1950-gotha.de/event/osterturnier-bogensport
LOCATION:Parcoursgelände Bad Langensalza
END:VEVENT
BEGIN:VEVENT
DTSTART;TZID=UTC:20250427T100000
DTEND;TZID=UTC:20250427T160000
DTSTAMP:20260421T100440
CREATED:20250305T184210Z
LAST-MODIFIED:20250305T184210Z
UID:3838-1745748000-1745769600@fsv-1950-gotha.de
SUMMARY:Wanderung Leinakanal 2. Teil
DESCRIPTION:
URL:https://fsv-1950-gotha.de/event/wanderung-leinakanal-2-teil
LOCATION:Emleben – Gotha
END:VEVENT
END:VCALENDAR