BEGIN:VCALENDAR
VERSION:2.0
PRODID:-//FSV 1950 Gotha e.V. - ECPv6.15.20//NONSGML v1.0//EN
CALSCALE:GREGORIAN
METHOD:PUBLISH
X-ORIGINAL-URL:https://fsv-1950-gotha.de
X-WR-CALDESC:Veranstaltungen für FSV 1950 Gotha e.V.
REFRESH-INTERVAL;VALUE=DURATION:PT1H
X-Robots-Tag:noindex
X-PUBLISHED-TTL:PT1H
BEGIN:VTIMEZONE
TZID:UTC
BEGIN:STANDARD
TZOFFSETFROM:+0000
TZOFFSETTO:+0000
TZNAME:UTC
DTSTART:20240101T000000
END:STANDARD
END:VTIMEZONE
BEGIN:VEVENT
DTSTART;VALUE=DATE:20250201
DTEND;VALUE=DATE:20250202
DTSTAMP:20260421T131320
CREATED:20250118T175832Z
LAST-MODIFIED:20250118T175832Z
UID:3745-1738368000-1738454399@fsv-1950-gotha.de
SUMMARY:Winterwurf U16-U20
DESCRIPTION:
URL:https://fsv-1950-gotha.de/event/winterwurf-u16-u20
LOCATION:Chemnitz
END:VEVENT
BEGIN:VEVENT
DTSTART;TZID=UTC:20250216T100000
DTEND;TZID=UTC:20250216T160000
DTSTAMP:20260421T131320
CREATED:20250211T093017Z
LAST-MODIFIED:20250211T093017Z
UID:3815-1739700000-1739721600@fsv-1950-gotha.de
SUMMARY:Winterwanderung Oberhof
DESCRIPTION:Sportliche Tageswanderung mit Ronald und Beate  über eine Rundwanderstrecke von ca. 14 km mit vielen interessanten Informationen\, auch für Familien geeignet. Die Strecke kann jederzeit abgekürzt werden. \nTreff:  Parkplatz am „ Gründle“ Oberhof \nMitbringen zur Winterwanderung: gute Wanderschuhe\, Rucksackessen\, bei Bedarf Stöcke und ggf. Spikes für die Schuhe (es kann streckenweise etwas glatt sein)
URL:https://fsv-1950-gotha.de/event/winterwanderung-oberhof
LOCATION:Oberhof
END:VEVENT
END:VCALENDAR