BEGIN:VCALENDAR
VERSION:2.0
PRODID:-//FSV 1950 Gotha e.V. - ECPv6.15.20//NONSGML v1.0//EN
CALSCALE:GREGORIAN
METHOD:PUBLISH
X-WR-CALNAME:FSV 1950 Gotha e.V.
X-ORIGINAL-URL:https://fsv-1950-gotha.de
X-WR-CALDESC:Veranstaltungen für FSV 1950 Gotha e.V.
REFRESH-INTERVAL;VALUE=DURATION:PT1H
X-Robots-Tag:noindex
X-PUBLISHED-TTL:PT1H
BEGIN:VTIMEZONE
TZID:UTC
BEGIN:STANDARD
TZOFFSETFROM:+0000
TZOFFSETTO:+0000
TZNAME:UTC
DTSTART:20240101T000000
END:STANDARD
END:VTIMEZONE
BEGIN:VEVENT
DTSTART;TZID=UTC:20250928T100000
DTEND;TZID=UTC:20250928T140000
DTSTAMP:20260423T082841
CREATED:20250630T090940Z
LAST-MODIFIED:20250904T085320Z
UID:4132-1759053600-1759068000@fsv-1950-gotha.de
SUMMARY:19. Erlebnistag Wandern & Nordic Walking
DESCRIPTION:Am 28. September laden wir zum gemeinsamen Erlebnistag an der frischen Luft ein. Wir werden über alte Pfade und Wege laufen\, schöne Orte entdecken\, die Natur genießen\, Geschichtliches erfahren und bei kleinen Spielen viel Spaß haben. Start 10 Uhr am Schloss Tenneberg! \nEinfach mitkommen und bitte anmelden: Anzahl\, Strecke\, Verpflegung ja/nein! \nDanke\, wir freuen uns auf einen schönen  Tag! \n 
URL:https://fsv-1950-gotha.de/event/erlebniswandertag
END:VEVENT
END:VCALENDAR