BEGIN:VCALENDAR
VERSION:2.0
PRODID:-//FSV 1950 Gotha e.V. - ECPv6.15.20//NONSGML v1.0//EN
CALSCALE:GREGORIAN
METHOD:PUBLISH
X-ORIGINAL-URL:https://fsv-1950-gotha.de
X-WR-CALDESC:Veranstaltungen für FSV 1950 Gotha e.V.
REFRESH-INTERVAL;VALUE=DURATION:PT1H
X-Robots-Tag:noindex
X-PUBLISHED-TTL:PT1H
BEGIN:VTIMEZONE
TZID:UTC
BEGIN:STANDARD
TZOFFSETFROM:+0000
TZOFFSETTO:+0000
TZNAME:UTC
DTSTART:20240101T000000
END:STANDARD
END:VTIMEZONE
BEGIN:VEVENT
DTSTART;VALUE=DATE:20250906
DTEND;VALUE=DATE:20250908
DTSTAMP:20260419T155126
CREATED:20250630T090651Z
LAST-MODIFIED:20250630T090805Z
UID:4128-1757116800-1757289599@fsv-1950-gotha.de
SUMMARY:11. Böhmenturnier 3D Bogensport
DESCRIPTION:Turniere
URL:https://fsv-1950-gotha.de/event/11-boehmenturnier-3-d-bogensport
LOCATION:Parcoursgelände Bad Langensalza
END:VEVENT
END:VCALENDAR