BEGIN:VCALENDAR
VERSION:2.0
PRODID:-//FSV 1950 Gotha e.V. - ECPv6.15.20//NONSGML v1.0//EN
CALSCALE:GREGORIAN
METHOD:PUBLISH
X-WR-CALNAME:FSV 1950 Gotha e.V.
X-ORIGINAL-URL:https://fsv-1950-gotha.de
X-WR-CALDESC:Veranstaltungen für FSV 1950 Gotha e.V.
REFRESH-INTERVAL;VALUE=DURATION:PT1H
X-Robots-Tag:noindex
X-PUBLISHED-TTL:PT1H
BEGIN:VTIMEZONE
TZID:UTC
BEGIN:STANDARD
TZOFFSETFROM:+0000
TZOFFSETTO:+0000
TZNAME:UTC
DTSTART:20220101T000000
END:STANDARD
END:VTIMEZONE
BEGIN:VEVENT
DTSTART;VALUE=DATE:20231203
DTEND;VALUE=DATE:20240103
DTSTAMP:20260424T123512
CREATED:20231128T091602Z
LAST-MODIFIED:20240102T105024Z
UID:2750-1701561600-1704239999@fsv-1950-gotha.de
SUMMARY:Adventswanderung im Winterwald
DESCRIPTION:Ronald und Beate laden bereits zum 12. Mal zum gemeinsamen Wandern in der Adventszeit ein. Treff ist am 3. Dezember  in Finsterbergen. Der Winter verzaubert gerade den Wald! Einfach mitkommen und eintauchen in die Adventsstimmung! \n12. Adventswanderung
URL:https://fsv-1950-gotha.de/event/adventswanderung-im-winterwald
ATTACH;FMTTYPE=image/jpeg:https://fsv-1950-gotha.de/wp-content/uploads/2023/02/IMG_9281.jpg
END:VEVENT
BEGIN:VEVENT
DTSTART;TZID=UTC:20231203T140000
DTEND;TZID=UTC:20231203T160000
DTSTAMP:20260424T123512
CREATED:20231025T183340Z
LAST-MODIFIED:20231025T183340Z
UID:2564-1701612000-1701619200@fsv-1950-gotha.de
SUMMARY:Adventstanzen
DESCRIPTION:
URL:https://fsv-1950-gotha.de/event/adventstanzen
LOCATION:Gotha
END:VEVENT
END:VCALENDAR