BEGIN:VCALENDAR
VERSION:2.0
PRODID:-//FSV 1950 Gotha e.V. - ECPv6.15.20//NONSGML v1.0//EN
CALSCALE:GREGORIAN
METHOD:PUBLISH
X-ORIGINAL-URL:https://fsv-1950-gotha.de
X-WR-CALDESC:Veranstaltungen für FSV 1950 Gotha e.V.
REFRESH-INTERVAL;VALUE=DURATION:PT1H
X-Robots-Tag:noindex
X-PUBLISHED-TTL:PT1H
BEGIN:VTIMEZONE
TZID:UTC
BEGIN:STANDARD
TZOFFSETFROM:+0000
TZOFFSETTO:+0000
TZNAME:UTC
DTSTART:20220101T000000
END:STANDARD
END:VTIMEZONE
BEGIN:VEVENT
DTSTART;VALUE=DATE:20231112
DTEND;VALUE=DATE:20231113
DTSTAMP:20260424T140806
CREATED:20231025T182840Z
LAST-MODIFIED:20231108T095030Z
UID:2560-1699747200-1699833599@fsv-1950-gotha.de
SUMMARY:Wanderung mit Ronald und Beate
DESCRIPTION:„Tambach-Dietharz“  \nGeführte sportliche Tageswanderung über ca. 15 km\, alte Talsperre\, steinernes Tor\, neue Talsperre.
URL:https://fsv-1950-gotha.de/event/wanderung-mit-ronald-und-beate
END:VEVENT
END:VCALENDAR